BEGIN:VCALENDAR
VERSION:2.0
PRODID:-//wp-events-plugin.com//5.99912//EN
TZID:Europe/Berlin
X-WR-TIMEZONE:Europe/Berlin
BEGIN:VEVENT
UID:0-596@villingendorf.albverein.eu
DTSTART;TZID=Europe/Berlin:20260501T100000
DTEND;TZID=Europe/Berlin:20260501T200000
DTSTAMP:20260303T071158Z
URL:https://villingendorf.albverein.eu/events/1-mai-mit-dem-albverein/
SUMMARY:1. Mai mit dem Albverein
DESCRIPTION:
LOCATION:Rathaus Villingendorf\, Hauptstraße 1\, Villingendorf\, 78667\, D
 eutschland
GEO:48.20251;8.589953499999978
X-APPLE-STRUCTURED-LOCATION;VALUE=URI;X-ADDRESS=Hauptstraße 1\, Villingend
 orf\, 78667\, Deutschland;X-APPLE-RADIUS=100;X-TITLE=Rathaus Villingendorf
 :geo:48.20251,8.589953499999978
END:VEVENT
BEGIN:VTIMEZONE
TZID:Europe/Berlin
X-LIC-LOCATION:Europe/Berlin
BEGIN:DAYLIGHT
DTSTART:20260329T030000
TZOFFSETFROM:+0100
TZOFFSETTO:+0200
TZNAME:CEST
END:DAYLIGHT
END:VTIMEZONE
END:VCALENDAR